BEGIN:VCALENDAR
VERSION:2.0
PRODID:-//ChamberMaster//Event Calendar 2.0//EN
METHOD:PUBLISH
X-PUBLISHED-TTL:P3D
REFRESH-INTERVAL:P3D
CALSCALE:GREGORIAN
BEGIN:VEVENT
DTSTART:20140227T003000Z
DTEND:20140227T030000Z
X-MICROSOFT-CDO-ALLDAYEVENT:FALSE
SUMMARY:Trio Cafe & Catering
DESCRIPTION:Jan. 15\, 2014\n	\n		Pacific Rim | Tour of Asia Cooking Class\n	\n		Executive Chef & Owner Jason Harper will take you on\n	\n		a tour of Asia as he demonstrates how to prepare delicious dishes\n	\n		in this interactive\, hands on class.\n	\n		6:30 p.m. | $70 | Reservations required\n	\n		Menu\n	\n		Sweet Chile Field Green Salad\n	\n		grilled shiitakes & crispy wontons\n	\n		Thai Chicken Curry Soup\n	\n		Chili Lime Rice Noodles with Togarashi Seared Tuna\n	\n		Sticky Black Rice Pudding with Caramelized Pineapple\n	\n		Trio Catering\n	\n		8245 Precinct Line Rd | Suite 130 | North Richland Hills\n	\n		catering@triocolleyville.com\n	\n		817-629-0879\n	Click here to edit...
X-ALT-DESC;FMTTYPE=text/html:<div style="color: gray\;">\n	<p align="LEFT">\n		<b><font face="TimesNewRomanPS-BoldMT" size="4"><font face="TimesNewRomanPS-BoldMT" size="4">Jan. 15\, 2014</font></font></b></p>\n	<p align="LEFT">\n		<b><font face="TimesNewRomanPS-BoldMT" size="4"><font face="TimesNewRomanPS-BoldMT" size="4">Pacific Rim | Tour of Asia Cooking Class</font></font></b></p>\n	<p align="LEFT">\n		<font face="TimesNewRomanPSMT" size="3"><font face="TimesNewRomanPSMT" size="3">Executive Chef &amp\; Owner Jason Harper will take you on</font></font></p>\n	<p align="LEFT">\n		<font face="TimesNewRomanPSMT" size="3"><font face="TimesNewRomanPSMT" size="3">a tour of Asia as he demonstrates how to prepare delicious dishes</font></font></p>\n	<p align="LEFT">\n		<font face="TimesNewRomanPSMT" size="3"><font face="TimesNewRomanPSMT" size="3">in this interactive\, hands on class.</font></font></p>\n	<p align="LEFT">\n		<font face="TimesNewRomanPSMT" size="3"><font face="TimesNewRomanPSMT" size="3">6:30 p.m. | $70 | Reservations required</font></font></p>\n	<p align="LEFT">\n		<i><font face="SnellRoundhand" size="5"><font face="SnellRoundhand" size="5">Menu</font></font></i></p>\n	<p align="LEFT">\n		<font face="TimesNewRomanPSMT">Sweet Chile Field Green Salad</font></p>\n	<p align="LEFT">\n		<font face="TimesNewRomanPSMT" size="2"><font face="TimesNewRomanPSMT" size="2">grilled shiitakes &amp\; crispy wontons</font></font></p>\n	<p align="LEFT">\n		<font face="TimesNewRomanPSMT">Thai Chicken Curry Soup</font></p>\n	<p align="LEFT">\n		<font face="TimesNewRomanPSMT">Chili Lime Rice Noodles with Togarashi Seared Tuna</font></p>\n	<p align="LEFT">\n		<font face="TimesNewRomanPSMT">Sticky Black Rice Pudding with Caramelized Pineapple</font></p>\n	<p align="LEFT">\n		<b><font face="TimesNewRomanPS-BoldMT" size="5"><font face="TimesNewRomanPS-BoldMT" size="5">Trio Catering</font></font></b></p>\n	<p align="LEFT">\n		<font face="TimesNewRomanPSMT" size="3"><font face="TimesNewRomanPSMT" size="3">8245 Precinct Line Rd | Suite 130 | North Richland Hills</font></font></p>\n	<p align="LEFT">\n		<font color="#00009a" face="TimesNewRomanPSMT" size="3"><font color="#00009a" face="TimesNewRomanPSMT" size="3"><font color="#00009a" face="TimesNewRomanPSMT" size="3">catering@triocolleyville.com</font></font></font></p>\n	<p>\n		<b><font face="TimesNewRomanPS-BoldMT" size="3"><font face="TimesNewRomanPS-BoldMT" size="3">817-629-0879</font></font></b></p>\n	Click here to edit...</div>\n
LOCATION:
UID:e.642.6064
SEQUENCE:3
DTSTAMP:20260422T084503Z
URL:https://business.colleyvillechamber.org/events/details/trio-cafe-catering-02-26-2014-6064
END:VEVENT

END:VCALENDAR
