BEGIN:VCALENDAR
VERSION:2.0
PRODID:-//ChamberMaster//Event Calendar 2.0//EN
METHOD:PUBLISH
X-PUBLISHED-TTL:P3D
REFRESH-INTERVAL:P3D
CALSCALE:GREGORIAN
BEGIN:VEVENT
DTSTART:20140419T150000Z
DTEND:20140419T190000Z
X-MICROSOFT-CDO-ALLDAYEVENT:FALSE
SUMMARY:Trio Cafe-Easter Brunch
DESCRIPTION:April 20\, 2014 | 'Easter Brunch' \n\nJoin us for Easter Brunch \n\nBuffet |  BYOB | 10:00am - 2:00pm | Reservations required for parties of 5+ | $30.00 per person + tax | 10 & under Kids Menu Available\n\n817-629-0879  | catering@TrioNewAmerican.com\n\nMenu\n\nOmelette Station\n\nHouse Smoked Salmon\n\ncapers | egg | red onion\n\nChorizo Egg Casserole\n\nShort Rib Fingerling Hash\n\nApplewood Bacon\n\nRueben Puffs\n\nBruschetta\n\nBagels | Biscuits | Cornbread Muffins\n\njalape o- blackberry cream cheese\n\nSeasonal Fresh Fruit\n\nSweet Bites
X-ALT-DESC;FMTTYPE=text/html:<p style="margin: 0in 0in 0pt\;"><font color="#000000"><font face="Times New Roman"><b><span style="font-size: 9pt\;">April 20\, 2014 | &#39\;Easter Brunch&rsquo\;&nbsp\;</span></b><span style="font-size: 9pt\;"><o:p></o:p></span></font></font></p>\n\n<p style="margin: 0in 0in 0pt 0.75pt\;"><span style="color: rgb(60\, 8\, 27)\; font-size: 9pt\;"><font face="Times New Roman">Join us for Easter Brunch&nbsp\;<o:p></o:p></font></span></p>\n\n<p style="margin: 0in 0in 0pt 0.75pt\;"><font face="Times New Roman"><span style="color: rgb(60\, 8\, 27)\; font-size: 8.5pt\;">Buffet |&nbsp\; BYOB | </span><span style="color: black\; font-size: 8.5pt\;">10:00am - 2:00pm</span><span style="color: rgb(60\, 8\, 27)\; font-size: 8.5pt\;"> | Reservations required for parties of 5+ | </span><span style="color: black\; font-size: 8.5pt\;">$30.00 </span><span style="color: rgb(60\, 8\, 27)\; font-size: 8.5pt\;">per person + tax | 10 &amp\; under Kids Menu Available<o:p></o:p></span></font></p>\n\n<p style="margin: 0in 0in 8.7pt\;"><span style="font-size: 8.5pt\;"><font color="#000000" face="Times New Roman">817-629-0879&nbsp\; | </font><a href="mailto:catering@TrioNewAmerican.com"><font color="#0000ff" face="Times New Roman">catering@TrioNewAmerican.com</font></a><o:p></o:p></span></p>\n\n<p style="margin: 0in 0in 0.45pt\;"><font color="#000000"><font face="Times New Roman"><b><span style="font-size: 8.5pt\;">Menu</span></b><span style="font-size: 8.5pt\;"><o:p></o:p></span></font></font></p>\n\n<p style="margin: 0in 0in 0pt\;"><span style="font-size: 8.5pt\;"><font color="#000000"><font face="Times New Roman">Omelette Station<o:p></o:p></font></font></span></p>\n\n<p style="margin: 0in 0in 0pt\;"><span style="font-size: 8.5pt\;"><font color="#000000"><font face="Times New Roman">House Smoked Salmon<o:p></o:p></font></font></span></p>\n\n<p style="margin: 0in 0in 0pt\;"><span style="font-size: 8.5pt\;"><font color="#000000"><font face="Times New Roman">capers | egg | red onion<o:p></o:p></font></font></span></p>\n\n<p style="margin: 0in 0in 0pt\;"><span style="font-size: 8.5pt\;"><font color="#000000"><font face="Times New Roman">Chorizo Egg Casserole<o:p></o:p></font></font></span></p>\n\n<p style="margin: 0in 0in 0pt\;"><span style="font-size: 8.5pt\;"><font color="#000000"><font face="Times New Roman">Short Rib Fingerling Hash<o:p></o:p></font></font></span></p>\n\n<p style="margin: 0in 0in 0pt\;"><span style="font-size: 8.5pt\;"><font color="#000000"><font face="Times New Roman">Applewood Bacon<o:p></o:p></font></font></span></p>\n\n<p style="margin: 0in 0in 0pt\;"><span style="font-size: 8.5pt\;"><font color="#000000"><font face="Times New Roman">Rueben Puffs<o:p></o:p></font></font></span></p>\n\n<p style="margin: 0in 0in 0pt\;"><span style="font-size: 8.5pt\;"><font color="#000000"><font face="Times New Roman">Bruschetta</font></font></span></p>\n\n<p style="margin: 0in 0in 0pt\;"><span style="font-size: 8.5pt\;"><font color="#000000"><font face="Times New Roman">Bagels | Biscuits | Cornbread Muffins<o:p></o:p></font></font></span></p>\n\n<p style="margin: 0in 0in 0pt\;"><span style="font-size: 8.5pt\;"><font color="#000000"><font face="Times New Roman">jalape&ntilde\;o- blackberry cream cheese<o:p></o:p></font></font></span></p>\n\n<p style="margin: 0in 0in 0pt\;"><span style="font-size: 8.5pt\;"><font color="#000000"><font face="Times New Roman">Seasonal Fresh Fruit<o:p></o:p></font></font></span></p>\n\n<p style="margin: 0in 0in 0pt\;"><span style="font-size: 8.5pt\;"><font color="#000000"><font face="Times New Roman">Sweet Bites<o:p></o:p></font></font></span></p>\n\n<p style="margin: 0in 0in 0pt\; min-height: 12px\;"><span style="font-size: 8.5pt\;"><o:p><font color="#000000" face="Times New Roman" size="3">&nbsp\;</font></o:p></span></p>\n\n<p style="margin: 0in 0in 0pt\; min-height: 12px\;"><span style="font-size: 8.5pt\;"><o:p><font color="#000000" face="Times New Roman" size="3">&nbsp\;</font></o:p></span></p>\n\n<p style="margin: 0in 0in 0pt\;"><span style="font-size: 8.5pt\;"><font color="#000000"><font face="Times New Roman"><o:p></o:p></font></font></span></p>\n
LOCATION:Trio Cafe | 8300 Precinct Line Rd | Colleyville | 817-629-0879 | catering@TrioNewAmerican.com
UID:e.642.6865
SEQUENCE:3
DTSTAMP:20260422T065449Z
URL:https://business.colleyvillechamber.org/events/details/trio-cafe-easter-brunch-04-19-2014-6865
END:VEVENT

END:VCALENDAR
