BEGIN:VCALENDAR
VERSION:2.0
PRODID:-//ChamberMaster//Event Calendar 2.0//EN
METHOD:PUBLISH
X-PUBLISHED-TTL:P3D
REFRESH-INTERVAL:P3D
CALSCALE:GREGORIAN
BEGIN:VEVENT
DTSTART:20140123T003000Z
DTEND:20140123T033000Z
X-MICROSOFT-CDO-ALLDAYEVENT:FALSE
SUMMARY:Trio-Chef Tasting event
DESCRIPTION:T R I O \n	\n		 \n	\n		new american caf \n	\n		Private Chef's Tasting Challenge\n	\n		Wednesday | January 22\, 2014 | 6:30pm\n	\n		Executive Chef & Owner Jason Harper will prepare a\n	\n		multiple course tasting dinner\n	\n		Everyone is invited to bring wine to pair with their selected course.\n	\n		Our judges will determine which pairing reigns supreme.\n	\n		The winner will receive their Chef's Tasting for FREE\n	\n		Menu\n	\n		Amuse Bouche\n	\n		2nd Course\n	\n		Ancho Espresso Elk Carpaccio\n	\n		smoked jalape o vinaigrette | grilled key lime |\n	\n		blue cornbread toast\n	\n		3rd Course\n	\n		Candy Striped Beet & Goat Cheese Salad\n	\n		On Pure Ground goat cheese | pistachio brittle | micro basil\n	\n		4th Course\n	\n		Pork Duo\n	\n		Crispy Belly | Oaxaca Mole | Habanero Tamale | Tomatillo Chutney\n	\n		5th Course\n	\n		Jumbo Seared Sea Scallop\n	\n		shredded brussels | black garlic miso sauce\n	\n		6th Course\n	\n		Grilled Lamb Lollipops\n	\n		winter root vegetable gratin | lavender mustard demi\n	\n		Dessert\n	\n		Reservation Only | 817-629-0879 | \n	\n		 \n	\n		catering@triocolleyville.com\n	\n		$100 per person | plus tax & gratuity\n	\n		Trio\n	\n		Cafe\n	\n		8300 Precinct Line Road | Suite 104 | Colleyville 76034\n	Click here to edit...
X-ALT-DESC;FMTTYPE=text/html:<div style="color: gray\;">\n	<p align="LEFT">\n		<font face="HoeflerText-Regular" size="7"><font face="HoeflerText-Regular" size="7">T R I O </font></font></p>\n	<p align="LEFT">\n		&nbsp\;</p>\n	<p align="LEFT">\n		<font face="HoeflerText-Regular" size="6"><font face="HoeflerText-Regular" size="6">new american caf&eacute\;</font></font></p>\n	<p align="LEFT">\n		<b><font face="SnellRoundhand-Bold" size="6"><font face="SnellRoundhand-Bold" size="6">Private Chef&#39\;s Tasting Challenge</font></font></b></p>\n	<p align="LEFT">\n		<b><font face="TimesNewRomanPS-BoldMT" size="4"><font face="TimesNewRomanPS-BoldMT" size="4">Wednesday | January 22\, 2014 | 6:30pm</font></font></b></p>\n	<p align="LEFT">\n		<i><font face="TimesNewRomanPS-ItalicMT" size="2"><font face="TimesNewRomanPS-ItalicMT" size="2">Executive Chef &amp\; Owner Jason Harper will prepare a</font></font></i></p>\n	<p align="LEFT">\n		<i><font face="TimesNewRomanPS-ItalicMT" size="2"><font face="TimesNewRomanPS-ItalicMT" size="2">multiple course tasting dinner</font></font></i></p>\n	<p align="LEFT">\n		<i><font face="TimesNewRomanPS-ItalicMT" size="2"><font face="TimesNewRomanPS-ItalicMT" size="2">Everyone is invited to bring wine to pair with their selected course.</font></font></i></p>\n	<p align="LEFT">\n		<i><font face="TimesNewRomanPS-ItalicMT" size="2"><font face="TimesNewRomanPS-ItalicMT" size="2">Our judges will determine which pairing reigns supreme.</font></font></i></p>\n	<p align="LEFT">\n		<i><b><font face="TimesNewRomanPS-BoldItalicMT" size="2"><font face="TimesNewRomanPS-BoldItalicMT" size="2">The winner will receive their Chef&#39\;s Tasting for FREE</font></font></b></i></p>\n	<p align="LEFT">\n		<b><font face="Arial-BoldMT" size="5"><font face="Arial-BoldMT" size="5">Menu</font></font></b></p>\n	<p align="LEFT">\n		<b><font face="TimesNewRomanPS-BoldMT" size="2"><font face="TimesNewRomanPS-BoldMT" size="2">Amuse Bouche</font></font></b></p>\n	<p align="LEFT">\n		<b><font face="TimesNewRomanPS-BoldMT" size="1"><font face="TimesNewRomanPS-BoldMT" size="1">2nd Course</font></font></b></p>\n	<p align="LEFT">\n		<b><font face="Georgia-Bold" size="2"><font face="Georgia-Bold" size="2">Ancho Espresso Elk Carpaccio</font></font></b></p>\n	<p align="LEFT">\n		<b><font face="TimesNewRomanPS-BoldMT" size="1"><font face="TimesNewRomanPS-BoldMT" size="1">smoked jalape&ntilde\;o vinaigrette | grilled key lime |</font></font></b></p>\n	<p align="LEFT">\n		<b><font face="TimesNewRomanPS-BoldMT" size="1"><font face="TimesNewRomanPS-BoldMT" size="1">blue cornbread toast</font></font></b></p>\n	<p align="LEFT">\n		<b><font face="TimesNewRomanPS-BoldMT" size="1"><font face="TimesNewRomanPS-BoldMT" size="1">3rd Course</font></font></b></p>\n	<p align="LEFT">\n		<b><font face="Georgia-Bold" size="2"><font face="Georgia-Bold" size="2">Candy Striped Beet &amp\; Goat Cheese Salad</font></font></b></p>\n	<p align="LEFT">\n		<b><font face="TimesNewRomanPS-BoldMT" size="1"><font face="TimesNewRomanPS-BoldMT" size="1">On Pure Ground goat cheese | pistachio brittle | micro basil</font></font></b></p>\n	<p align="LEFT">\n		<b><font face="TimesNewRomanPS-BoldMT" size="1"><font face="TimesNewRomanPS-BoldMT" size="1">4th Course</font></font></b></p>\n	<p align="LEFT">\n		<b><font face="Georgia-Bold" size="2"><font face="Georgia-Bold" size="2">Pork Duo</font></font></b></p>\n	<p align="LEFT">\n		<b><font face="TimesNewRomanPS-BoldMT" size="1"><font face="TimesNewRomanPS-BoldMT" size="1">Crispy Belly | Oaxaca Mole | Habanero Tamale | Tomatillo Chutney</font></font></b></p>\n	<p align="LEFT">\n		<b><font face="TimesNewRomanPS-BoldMT" size="1"><font face="TimesNewRomanPS-BoldMT" size="1">5th Course</font></font></b></p>\n	<p align="LEFT">\n		<b><font face="Georgia-Bold" size="2"><font face="Georgia-Bold" size="2">Jumbo Seared Sea Scallop</font></font></b></p>\n	<p align="LEFT">\n		<b><font face="TimesNewRomanPS-BoldMT" size="1"><font face="TimesNewRomanPS-BoldMT" size="1">shredded brussels | black garlic miso sauce</font></font></b></p>\n	<p align="LEFT">\n		<b><font face="TimesNewRomanPS-BoldMT" size="1"><font face="TimesNewRomanPS-BoldMT" size="1">6th Course</font></font></b></p>\n	<p align="LEFT">\n		<b><font face="Georgia-Bold" size="2"><font face="Georgia-Bold" size="2">Grilled Lamb Lollipops</font></font></b></p>\n	<p align="LEFT">\n		<b><font face="TimesNewRomanPS-BoldMT" size="1"><font face="TimesNewRomanPS-BoldMT" size="1">winter root vegetable gratin | lavender mustard demi</font></font></b></p>\n	<p align="LEFT">\n		<b><font face="Georgia-Bold" size="2"><font face="Georgia-Bold" size="2">Dessert</font></font></b></p>\n	<p align="LEFT">\n		<b><font face="TimesNewRomanPS-BoldMT" size="1"><font face="TimesNewRomanPS-BoldMT" size="1">Reservation Only | 817-629-0879 | </font></font></b></p>\n	<p align="LEFT">\n		&nbsp\;</p>\n	<p align="LEFT">\n		<b><font color="#00009a" face="TimesNewRomanPS-BoldMT" size="1"><font color="#00009a" face="TimesNewRomanPS-BoldMT" size="1"><font color="#00009a" face="TimesNewRomanPS-BoldMT" size="1">catering@triocolleyville.com</font></font></font></b></p>\n	<p align="LEFT">\n		<b><font face="TimesNewRomanPS-BoldMT" size="1"><font face="TimesNewRomanPS-BoldMT" size="1">$100 per person | plus tax &amp\; gratuity</font></font></b></p>\n	<p align="LEFT">\n		<font face="Calibri" size="2"><font face="Calibri" size="2">Trio</font></font></p>\n	<p align="LEFT">\n		<font face="Calibri" size="2"><font face="Calibri" size="2">Cafe</font></font></p>\n	<p>\n		<font face="TimesNewRomanPSMT" size="2"><font face="TimesNewRomanPSMT" size="2">8300 Precinct Line Road | Suite 104 | Colleyville 76034</font></font></p>\n	Click here to edit...</div>\n
LOCATION:
UID:e.642.6007
SEQUENCE:3
DTSTAMP:20260422T095947Z
URL:https://business.colleyvillechamber.org/events/details/trio-chef-tasting-event-01-22-2014-6007
END:VEVENT

END:VCALENDAR
