BEGIN:VCALENDAR
VERSION:2.0
PRODID:-//ChamberMaster//Event Calendar 2.0//EN
METHOD:PUBLISH
X-PUBLISHED-TTL:P3D
REFRESH-INTERVAL:P3D
CALSCALE:GREGORIAN
BEGIN:VEVENT
DTSTART:20131113T003000Z
DTEND:20131113T030000Z
X-MICROSOFT-CDO-ALLDAYEVENT:FALSE
SUMMARY:Trio Holiday Cooking Class
DESCRIPTION:November 12\, 2013 | 6:30pm - 9:00pm\n\n	'Trio Holiday Cooking Class'\n\n	 \n\n	Menu\n\n	Pomegranate Glazed Ham\n\n	Scalloped Potatoes & Leeks\n\n	Ginger & Candied Pecan Sweet Potatoes\n\n	Citrus Herb Roasted Cornish Game Hen\n\n	Jalape o Cornbread Stuffing\n\n	Miriam's Famous Apple Pie\n\n	BYOB\n\n	                                        \n\n	Hands On Cooking Class with Chef Jason Harper\n\n	at Trio Catering Kitchen | 8245 Precinct Line Rd #130\n\n	Sign up Now: 817-629-0849  catering@triocolleyville.com\n\n	Limited space
X-ALT-DESC;FMTTYPE=text/html:<p style="margin: 0px\; text-align: center\; color: rgb(60\, 7\, 27)\; font-family: &quot\;Hoefler Text&quot\;\; font-size: 5px\; min-height: 6px\;">\n	&nbsp\;</p>\n<p style="margin: 0px\; text-align: center\; font-family: &quot\;Hoefler Text&quot\;\; font-size: 11px\;">\n	<span style="letter-spacing: 0px\;"><b>November 12\, 2013 | 6:30pm - 9:00pm</b></span></p>\n<p style="margin: 0px\; text-align: center\; font-family: &quot\;Hoefler Text&quot\;\; font-size: 10px\;">\n	<span style="letter-spacing: 0px\;"><b>&#39\;Trio Holiday Cooking Class&#39\;</b></span></p>\n<p style="margin: 0px\; text-align: center\; font-family: &quot\;Hoefler Text&quot\;\; font-size: 10px\; min-height: 12px\;">\n	&nbsp\;</p>\n<p style="margin: 0px 0px 3px\; text-align: center\; font-family: &quot\;Hoefler Text&quot\;\; font-size: 11px\;">\n	<span style="letter-spacing: 0px\;"><b><i>Menu</i></b></span></p>\n<p style="margin: 0px 0px 2px\; text-align: center\; font-family: &quot\;Hoefler Text&quot\;\; font-size: 10px\;">\n	<span style="letter-spacing: 0px\;"><b>Pomegranate Glazed Ham</b></span></p>\n<p style="margin: 0px 0px 2px\; text-align: center\; font-family: &quot\;Hoefler Text&quot\;\; font-size: 10px\;">\n	<span style="letter-spacing: 0px\;"><b>Scalloped Potatoes &amp\; Leeks</b></span></p>\n<p style="margin: 0px 0px 2px\; text-align: center\; font-family: &quot\;Hoefler Text&quot\;\; font-size: 10px\;">\n	<span style="letter-spacing: 0px\;"><b>Ginger &amp\; Candied Pecan Sweet Potatoes</b></span></p>\n<p style="margin: 0px 0px 2px\; text-align: center\; font-family: &quot\;Hoefler Text&quot\;\; font-size: 10px\;">\n	<span style="letter-spacing: 0px\;"><b>Citrus Herb Roasted Cornish Game Hen</b></span></p>\n<p style="margin: 0px 0px 2px\; text-align: center\; font-family: &quot\;Hoefler Text&quot\;\; font-size: 10px\;">\n	<span style="letter-spacing: 0px\;"><b>Jalape&ntilde\;o Cornbread Stuffing</b></span></p>\n<p style="margin: 0px 0px 2px\; text-align: center\; font-family: &quot\;Hoefler Text&quot\;\; font-size: 10px\;">\n	<span style="letter-spacing: 0px\;"><b>Miriam&rsquo\;s Famous Apple Pie<br />\n	BYOB</b></span></p>\n<p style="margin: 0px 0px 2px\; font-family: &quot\;Hoefler Text&quot\;\; font-size: 10px\;">\n	<span style="letter-spacing: 0px\;"><b>&nbsp\; &nbsp\; &nbsp\; &nbsp\; &nbsp\; &nbsp\; &nbsp\; &nbsp\; &nbsp\; &nbsp\; &nbsp\; &nbsp\; &nbsp\; &nbsp\; &nbsp\; &nbsp\; <span class="Apple-tab-span" style="white-space: pre\;"> </span></b></span>&nbsp\; &nbsp\;&nbsp\; &nbsp\;&nbsp\;</p>\n<p style="margin: 0px 0px 6px\; text-align: center\; font-family: &quot\;Hoefler Text&quot\;\; font-size: 10px\;">\n	<span style="letter-spacing: 0px\;"><b>Hands On Cooking Class with Chef Jason Harper</b></span></p>\n<p style="margin: 0px 0px 6px\; text-align: center\; font-family: &quot\;Hoefler Text&quot\;\; font-size: 10px\;">\n	<span style="letter-spacing: 0px\;"><b>at Trio Catering Kitchen | 8245 Precinct Line Rd #130</b></span></p>\n<p style="margin: 0px 0px 6px\; text-align: center\; font-family: &quot\;Hoefler Text&quot\;\; font-size: 10px\;">\n	<span style="letter-spacing: 0px\;"><b>Sign up Now: 817-629-0849&nbsp\; </b><a href="mailto:catering@triocolleyville.com"><a href="mailto:catering@triocolleyville.com"><span style="color: rgb(0\, 0\, 0)\; letter-spacing: 0px\;"><b>catering@triocolleyville.com</b></span></a></a></span></p>\n<p style="margin: 0px 0px 6px\; text-align: center\; font-family: &quot\;Hoefler Text&quot\;\; font-size: 10px\;">\n	<span style="letter-spacing: 0px\;"><b>Limited space</b></span></p>\n<div>\n	&nbsp\;</div>\n
LOCATION:8245 Precinct Line Rd #130
UID:e.642.5757
SEQUENCE:3
DTSTAMP:20260422T130520Z
URL:https://business.colleyvillechamber.org/events/details/trio-holiday-cooking-class-11-12-2013-5757
END:VEVENT

END:VCALENDAR
