BEGIN:VCALENDAR
VERSION:2.0
PRODID:-//ChamberMaster//Event Calendar 2.0//EN
METHOD:PUBLISH
X-PUBLISHED-TTL:P3D
REFRESH-INTERVAL:P3D
CALSCALE:GREGORIAN
BEGIN:VEVENT
DTSTART:20140220T000000Z
DTEND:20140220T020000Z
X-MICROSOFT-CDO-ALLDAYEVENT:FALSE
SUMMARY:Trio Private Bridal Tasting Event
DESCRIPTION:Wednesday\, February\n\n		19th\, 2014\n	\n		6:00 p.m. - 8:00 p.m.\n	\n		Colleyville Community Center\n	\n		5301 Riverwalk Drive | Colleyville TX 76034\n	\n		Join us for an exclusive Chef's tasting featuring a variety of delicious creations.\n	\n		Enjoy our finest selection of hot and cold appetizers\, hors d'oeuvres\,\n	\n		salads\, soups\, entree bites\, and desserts.\n	\n		Reservations Required | \n	\n		 \n	\n		 \n	\n		$15 per person + tax\n	\n		limited space\n	\n		catering@triocolleyville.com | 817\n	\n		 \n	\n		-629-0879\n	Click here to edit...
X-ALT-DESC;FMTTYPE=text/html:<div style="color: gray\;">\n	<p align="LEFT">\n		<br />\n		<span style="font-size: 20px\;"><font color="#2d0515" face="SnellRoundhand"><font color="#2d0515" face="SnellRoundhand"><font color="#2d0515" face="SnellRoundhand">Wednesday\, February<br />\n		19th\, 2014</font></font></font></span></p>\n	<p align="LEFT">\n		<i><font color="#2d0515" face="SnellRoundhand" size="5"><font color="#2d0515" face="SnellRoundhand" size="5"><font color="#2d0515" face="SnellRoundhand" size="5">6:00 p.m. - 8:00 p.m.</font></font></font></i></p>\n	<p align="LEFT">\n		<font color="#2d0515" face="HoeflerText-Regular" size="5"><font color="#2d0515" face="HoeflerText-Regular" size="5"><font color="#2d0515" face="HoeflerText-Regular" size="5">Colleyville Community Center</font></font></font></p>\n	<p align="LEFT">\n		<font color="#2d0515" face="HoeflerText-Regular" size="5"><font color="#2d0515" face="HoeflerText-Regular" size="5"><font color="#2d0515" face="HoeflerText-Regular" size="5">5301 Riverwalk Drive | Colleyville TX 76034</font></font></font></p>\n	<p align="LEFT">\n		<i><font color="#2d0515" face="SnellRoundhand" size="5"><font color="#2d0515" face="SnellRoundhand" size="5"><font color="#2d0515" face="SnellRoundhand" size="5">Join us for an exclusive Chef&rsquo\;s tasting featuring a variety of delicious creations.</font></font></font></i></p>\n	<p align="LEFT">\n		<i><font color="#2d0515" face="SnellRoundhand" size="5"><font color="#2d0515" face="SnellRoundhand" size="5"><font color="#2d0515" face="SnellRoundhand" size="5">Enjoy our finest selection of hot and cold appetizers\, hors d&rsquo\;oeuvres\,</font></font></font></i></p>\n	<p align="LEFT">\n		<i><font color="#2d0515" face="SnellRoundhand" size="5"><font color="#2d0515" face="SnellRoundhand" size="5"><font color="#2d0515" face="SnellRoundhand" size="5">salads\, soups\, entree bites\, and desserts.</font></font></font></i></p>\n	<p align="LEFT">\n		<font color="#2d0515" face="HoeflerText-Regular" size="4"><font color="#2d0515" face="HoeflerText-Regular" size="4"><font color="#2d0515" face="HoeflerText-Regular" size="4">Reservations Required | </font></font></font></p>\n	<p align="LEFT">\n		&nbsp\;</p>\n	<p align="LEFT">\n		&nbsp\;</p>\n	<p align="LEFT">\n		<font color="#2d0515" face="HoeflerText-Regular" size="4"><font color="#2d0515" face="HoeflerText-Regular" size="4"><font color="#2d0515" face="HoeflerText-Regular" size="4">$</font></font></font><font color="#2d0515" face="HoeflerText-Regular" size="4"><font color="#2d0515" face="HoeflerText-Regular" size="4"><font color="#2d0515" face="HoeflerText-Regular" size="4">15 per person + tax</font></font></font></p>\n	<p align="LEFT">\n		<font color="#2d0515" face="HoeflerText-Regular"><font color="#2d0515" face="HoeflerText-Regular">limited space</font></font></p>\n	<p>\n		<font color="#2d0515" face="HoeflerText-Regular"><font color="#2d0515" face="HoeflerText-Regular">catering@triocolleyville.com | 817</font></font></p>\n	<p>\n		&nbsp\;</p>\n	<p>\n		<font color="#2d0515" face="HoeflerText-Regular"><font color="#2d0515" face="HoeflerText-Regular">-</font></font><font color="#2d0515" face="HoeflerText-Regular"><font color="#2d0515" face="HoeflerText-Regular">629</font></font><font color="#2d0515" face="HoeflerText-Regular"><font color="#2d0515" face="HoeflerText-Regular">-</font></font><font color="#2d0515" face="HoeflerText-Regular"><font color="#2d0515" face="HoeflerText-Regular">0879</font></font></p>\n	Click here to edit...</div>\n
LOCATION:
UID:e.642.6078
SEQUENCE:3
DTSTAMP:20260422T084619Z
URL:https://business.colleyvillechamber.org/events/details/trio-private-bridal-tasting-event-02-19-2014-6078
END:VEVENT

END:VCALENDAR
