BEGIN:VCALENDAR
VERSION:2.0
PRODID:-//ChamberMaster//Event Calendar 2.0//EN
METHOD:PUBLISH
X-PUBLISHED-TTL:P3D
REFRESH-INTERVAL:P3D
CALSCALE:GREGORIAN
BEGIN:VEVENT
DTSTART:20120519T200000Z
DTEND:20120520T010000Z
X-MICROSOFT-CDO-ALLDAYEVENT:FALSE
SUMMARY:Triple Crown Affair
DESCRIPTION:Individual Tickets $150 each.
X-ALT-DESC;FMTTYPE=text/html:Individual Tickets $150 each.
LOCATION:Lone Star Park
UID:e.642.5047
SEQUENCE:3
DTSTAMP:20260423T182505Z
URL:https://business.colleyvillechamber.org/events/details/triple-crown-affair-05-19-2012-5047
END:VEVENT

END:VCALENDAR
