BEGIN:VCALENDAR
VERSION:2.0
PRODID:-//ChamberMaster//Event Calendar 2.0//EN
METHOD:PUBLISH
X-PUBLISHED-TTL:P3D
REFRESH-INTERVAL:P3D
CALSCALE:GREGORIAN
BEGIN:VEVENT
DTSTART:20120426T220000Z
DTEND:20120427T000000Z
X-MICROSOFT-CDO-ALLDAYEVENT:FALSE
SUMMARY:VIP Auction Item Party
DESCRIPTION:Join the Colleyville Area Chamber of Commerce \n\nin preparing for the excitement of City Slickers 2012!  \n\n \n\nBring 1 auction item (valued at $50 or more) and \n\nenjoy food\, drinks & just kickin' back!
X-ALT-DESC;FMTTYPE=text/html:<strong><span style="font-size: 14pt"><span style="color: black"><span style="font-family: candara\, sans-serif">Join the Colleyville Area Chamber of Commerce </span></span></span></strong><br />\n<strong><span style="font-size: 14pt"><span style="color: black"><span style="font-family: candara\, sans-serif">in preparing for the excitement of City Slickers 2012!&nbsp\;&nbsp\;</span></span></span></strong><br />\n&nbsp\;<br />\n<strong><span style="font-size: 14pt"><span style="color: black"><span style="font-family: candara\, sans-serif">Bring 1 auction item&nbsp\;(valued at $50 or more) and </span></span></span></strong><br />\n<strong><span style="font-size: 14pt"><span style="color: black"><span style="font-family: candara\, sans-serif">enjoy food\, drinks &amp\;&nbsp\;just kickin&#39\; back!&nbsp\;</span></span></span></strong>&nbsp\;&nbsp\;<br />\n
LOCATION:Worthington National Bank 4814 Colleyville Blvd. Colleyville
UID:e.642.5037
SEQUENCE:3
DTSTAMP:20260423T212229Z
URL:https://business.colleyvillechamber.org/events/details/vip-auction-item-party-04-26-2012-5037
END:VEVENT

END:VCALENDAR
