BEGIN:VCALENDAR
VERSION:2.0
PRODID:-//ChamberMaster//Event Calendar 2.0//EN
METHOD:PUBLISH
X-PUBLISHED-TTL:P3D
REFRESH-INTERVAL:P3D
CALSCALE:GREGORIAN
BEGIN:VEVENT
DTSTART:20150206T123000Z
DTEND:20150206T170000Z
X-MICROSOFT-CDO-ALLDAYEVENT:FALSE
SUMMARY:We're Smart About Your Heart
DESCRIPTION:North Hills Hospital Main Lobby\n\nCommunity Educational Seminars\n\n4401 Booth Calloway Road\n\nNorth Richland Hills\, TX
X-ALT-DESC;FMTTYPE=text/html:North Hills Hospital Main Lobby<br />\nCommunity Educational Seminars<br />\n4401 Booth Calloway Road<br />\nNorth Richland Hills\, TX<br />\n&nbsp\;
LOCATION:
UID:e.642.7517
SEQUENCE:3
DTSTAMP:20260421T124238Z
URL:https://business.colleyvillechamber.org/events/details/we-re-smart-about-your-heart-02-06-2015-7517
END:VEVENT

END:VCALENDAR
