BEGIN:VCALENDAR
VERSION:2.0
PRODID:-//ChamberMaster//Event Calendar 2.0//EN
METHOD:PUBLISH
X-PUBLISHED-TTL:P3D
REFRESH-INTERVAL:P3D
CALSCALE:GREGORIAN
BEGIN:VEVENT
DTSTART:20121202T183000Z
DTEND:20121202T223000Z
X-MICROSOFT-CDO-ALLDAYEVENT:FALSE
SUMMARY:Weihnachtsfest (Christmas Fest)
DESCRIPTION:Sample a variety of German Christmas Specialties\, including a little cup of warm Gl hwein (spiced\, mulled wine).  Beer and Wine tasting from 1 pm - 3 pm.  Browse the booths of our 4th Annual Flohmarkt while listening to German Christmas Carols sung by the Edelweiss Singers or kick up your heels to the tunes spun by DJ Ron Slate.  Enjoy lunch (grilled brats\, Fleischk se or hot dogs) from the Grill for a low\, low price.  Enter to win one of several GermanDeli shopping Sprees.  Bring the kids and a camera!!  Mr & Mrs. Santa Claus and their huge\, white polar dogs will arrive promptly at 12:30 pm (in a horse and carriage\, weather permitting).
X-ALT-DESC;FMTTYPE=text/html:<p>\n	Sample a variety of German Christmas Specialties\, including a little cup of warm Gl&uuml\;hwein (spiced\, mulled wine).&nbsp\; Beer and Wine tasting from 1 pm - 3 pm.&nbsp\; Browse the booths of our 4th Annual Flohmarkt while listening to German Christmas Carols sung by the Edelweiss Singers or kick up your heels to the tunes spun by DJ Ron Slate.&nbsp\; Enjoy&nbsp\;lunch (grilled brats\, Fleischk&auml\;se or hot dogs) from the Grill for a low\, low price.&nbsp\; Enter to win one of several GermanDeli shopping Sprees.&nbsp\; Bring the kids and a camera!!&nbsp\; Mr &amp\; Mrs. Santa Claus and their huge\, white polar dogs will arrive promptly at 12:30 pm (in a horse and carriage\, weather permitting).</p>\n
LOCATION:GermanDeli European Food Store 5100 State Hwy 121 Colleyville\, Tx 76034
UID:e.642.5129
SEQUENCE:3
DTSTAMP:20260423T070634Z
URL:https://business.colleyvillechamber.org/events/details/weihnachtsfest-christmas-fest-12-02-2012-5129
END:VEVENT

END:VCALENDAR
