BEGIN:VCALENDAR
VERSION:2.0
PRODID:-//ChamberMaster//Event Calendar 2.0//EN
METHOD:PUBLISH
X-PUBLISHED-TTL:P3D
REFRESH-INTERVAL:P3D
CALSCALE:GREGORIAN
BEGIN:VEVENT
DTSTART:20120814T163000Z
DTEND:20120814T180000Z
X-MICROSOFT-CDO-ALLDAYEVENT:FALSE
SUMMARY:Welcome Educators Luncheon
DESCRIPTION:This is an annual community event sponsored by the GCISD Education Foundation to welcome new and returning educators in GCISD to a new school year.  The event is held to not only welcome and recognize educators but also to raise funds to provide grants to the educators for their classrooms.  Everyone is welcomed to attend\, sponsor and/or donate door prizes for the educators.
X-ALT-DESC;FMTTYPE=text/html:<p>\n	This is an annual community event sponsored by the GCISD Education Foundation to welcome new and returning educators in GCISD to a new school year. &nbsp\;The event is held to not only welcome and recognize educators but also to raise funds to provide grants to the educators for their classrooms. &nbsp\;Everyone is welcomed to attend\, sponsor and/or donate door prizes for the educators.</p>\n
LOCATION:Grapevine Convention Center
UID:e.642.5056
SEQUENCE:3
DTSTAMP:20260423T152259Z
URL:https://business.colleyvillechamber.org/events/details/welcome-educators-luncheon-08-14-2012-5056
END:VEVENT

END:VCALENDAR
