BEGIN:VCALENDAR
VERSION:2.0
PRODID:-//ChamberMaster//Event Calendar 2.0//EN
METHOD:PUBLISH
X-PUBLISHED-TTL:P3D
REFRESH-INTERVAL:P3D
CALSCALE:GREGORIAN
BEGIN:VEVENT
DTSTART:20121211T223000Z
DTEND:20121212T003000Z
X-MICROSOFT-CDO-ALLDAYEVENT:FALSE
SUMMARY:Welcome Reception - Chamber President
DESCRIPTION:The Colleyville Chamber of Commerce Board of Directors cordially invites you you to a Welcome Reception for Jenna M. Waters\, Chamber President. Light hors d'oeuvres will be served. Please RSVP by December 7th to erin@colleyvillechamber.org
X-ALT-DESC;FMTTYPE=text/html:<p>\n	The Colleyville Chamber of Commerce Board of Directors cordially invites you you to a Welcome Reception for Jenna M. Waters\, Chamber President. Light hors d&#39\;oeuvres will be served. Please RSVP by December 7th to erin@colleyvillechamber.org</p>\n
LOCATION:Colleyville Center 5301 Riverwalk Drive Colleyville\, TX 76034
UID:e.642.5141
SEQUENCE:3
DTSTAMP:20260423T070307Z
URL:https://business.colleyvillechamber.org/events/details/welcome-reception-chamber-president-12-11-2012-5141
END:VEVENT

END:VCALENDAR
