BEGIN:VCALENDAR
VERSION:2.0
PRODID:-//ChamberMaster//Event Calendar 2.0//EN
METHOD:PUBLISH
X-PUBLISHED-TTL:P3D
REFRESH-INTERVAL:P3D
CALSCALE:GREGORIAN
BEGIN:VEVENT
DTSTART:20130522T170000Z
DTEND:20130522T180000Z
X-MICROSOFT-CDO-ALLDAYEVENT:FALSE
SUMMARY:What is Your Cancer IQ? Lunch and Learn
DESCRIPTION:Think you've heard it all when it comes to cancer treatment?  Maybe not...Join us for a FREE Lunch and Learn to find out about non-toxic\, non-invasive treatments and tools you may not have heard of.
X-ALT-DESC;FMTTYPE=text/html:<span style="font-family: verdana\;"><span style="font-size: 12px\;">Think you&#39\;ve heard it all when it comes to cancer treatment?&nbsp\; Maybe not...Join us for a FREE Lunch and Learn to find out about non-toxic\, non-invasive treatments and tools you may not have heard of.</span></span>
LOCATION:Kotsanis Institute 2260 Pool Road Grapevine\, Texas 76051
UID:e.642.5645
SEQUENCE:3
DTSTAMP:20260422T223004Z
URL:https://business.colleyvillechamber.org/events/details/what-is-your-cancer-iq-lunch-and-learn-05-22-2013-5645
END:VEVENT

END:VCALENDAR
