BEGIN:VCALENDAR
VERSION:2.0
PRODID:-//ChamberMaster//Event Calendar 2.0//EN
METHOD:PUBLISH
X-PUBLISHED-TTL:P3D
REFRESH-INTERVAL:P3D
CALSCALE:GREGORIAN
BEGIN:VEVENT
DTSTART:20120830T140000Z
DTEND:20120830T210000Z
X-MICROSOFT-CDO-ALLDAYEVENT:FALSE
SUMMARY:Woodhaven Bank Celebrates Elsie Gunter
DESCRIPTION:Stop in to join us celebrating Elsie Gunter's 50 Years in Banking and her many contributions to the community! \n\n\n\n4607 Colleyville Blvd.
X-ALT-DESC;FMTTYPE=text/html:Stop in to join us celebrating Elsie Gunter&#39\;s <em>50 Years in Banking</em> and her many contributions to the community!&nbsp\;<br />\n<br />\n4607 Colleyville Blvd.<span _fck_bookmark="1" style="display: none">&nbsp\;</span><br />\n<span _fck_bookmark="1" style="display: none">&nbsp\;</span>
LOCATION:
UID:e.642.5074
SEQUENCE:3
DTSTAMP:20260423T140730Z
URL:https://business.colleyvillechamber.org/events/details/woodhaven-bank-celebrates-elsie-gunter-08-30-2012-5074
END:VEVENT

END:VCALENDAR
