BEGIN:VCALENDAR
VERSION:2.0
PRODID:-//ChamberMaster//Event Calendar 2.0//EN
METHOD:PUBLISH
X-PUBLISHED-TTL:P3D
REFRESH-INTERVAL:P3D
CALSCALE:GREGORIAN
BEGIN:VEVENT
DTSTART:20140614T160000Z
DTEND:20140614T190000Z
X-MICROSOFT-CDO-ALLDAYEVENT:FALSE
SUMMARY:World Blood Drive
DESCRIPTION:On Saturday June 14th we will be participating in the World Blood Drive at our sister store in Grapevine TX. The store is Area 51 Games and Collectibles\, 201 N. Barton St Grapevine TX. \n\n\n\nWe will have the 501st Star Wars cos-player group out there to help promote the event and Carter Bloodcare will be receiving the donations.\n\n\n\nWe will provide juice and snacks as well as 10% off of all purchases to all participants.
X-ALT-DESC;FMTTYPE=text/html:On Saturday June 14th we will be participating in the World Blood Drive at our sister store in Grapevine TX. The store is Area 51 Games and Collectibles\, 201 N. Barton St Grapevine TX.&nbsp\;<br />\n<br />\nWe will have the 501st Star Wars cos-player group out there to help promote the event and Carter Bloodcare will be receiving the donations.<br />\n<br />\nWe will provide juice and snacks as well as 10% off of all purchases to all participants.
LOCATION:501 N. Barton St\, Grapevine TX
UID:e.642.6893
SEQUENCE:3
DTSTAMP:20260422T014343Z
URL:https://business.colleyvillechamber.org/events/details/world-blood-drive-06-14-2014-6893
END:VEVENT

END:VCALENDAR
