BEGIN:VCALENDAR
VERSION:2.0
PRODID:-//ChamberMaster//Event Calendar 2.0//EN
METHOD:PUBLISH
X-PUBLISHED-TTL:P3D
REFRESH-INTERVAL:P3D
CALSCALE:GREGORIAN
BEGIN:VEVENT
DTSTART:20130201T223000Z
DTEND:20130202T003000Z
X-MICROSOFT-CDO-ALLDAYEVENT:FALSE
SUMMARY:WORTHINGTON NATIONAL BANK TO HOST AN ARTISTS RECEPTION HONORING SOPHY BROWN
DESCRIPTION:Worthington National Bank is proud to present a reception honoring the artwork of Sophy Brown. The reception will feature a collection of acrylic paintings depicting rodeo and ranch-themed scenes. Sophy Brown\, a highly respected Western artist\, uses bold color and striking brush strokes to convey the wild energy of horses and cowboys in motion. Brown has had her paintings featured in the Cowgirl Up Exhibition and Sale\, the Governor's Invitation Art Show & Sale Featuring Colorado Artists and the Coors Western Art Exhibit. Her work can also be found at the Evergreen Fine Art Gallery and Sculpture Garden\, Lovetts Gallery\, Rabbit Brush Gallery\, Primary Elements Gallery and Tough Luck Cowboy. Brown\, who was born in Birmingham\, England and educated at the University of London and the University of Michigan\, is now working on a series of paintings depicting cowboys in scenes of ranching life. Complimentary wine and hors d'oeuvres will be served. Please RSVP with names of all guests attending to Barbara Kelley at barbarakelley@worthingtonbank.com or 817.656.6200
X-ALT-DESC;FMTTYPE=text/html:<span mso-fareast-theme-font:="" style="font-size:11.5pt\;font-family:Cambria\;\nmso-ascii-theme-font:minor-latin\;mso-fareast-font-family:">Worthington National Bank is proud to present a reception honoring the artwork of Sophy Brown. The reception will feature a collection of acrylic paintings depicting rodeo and ranch-themed scenes. </span><span mso-fareast-language:="" mso-fareast-theme-font:="" new="" style="font-size:11.5pt\;font-family:Cambria\;\nmso-ascii-theme-font:minor-latin\;mso-fareast-font-family:" times="">Sophy Brown\, a highly respected Western artist\, uses bold color and striking brush strokes to convey the wild energy of horses and cowboys in motion. Brown has had her paintings featured in the Cowgirl Up Exhibition and Sale\, the Governor&rsquo\;s Invitation Art Show &amp\; Sale Featuring Colorado Artists and the Coors Western Art Exhibit. Her work can also be found at the Evergreen Fine Art Gallery and Sculpture Garden\, Lovetts Gallery\, Rabbit Brush Gallery\, Primary Elements Gallery and Tough Luck Cowboy.</span><span mso-ansi-language:="" style="font-size:11.5pt\;font-family:Cambria\;mso-ascii-theme-font:minor-latin\;\nmso-fareast-font-family:"> </span><span mso-fareast-language:="" new="" style="font-size:11.5pt\;font-family:Cambria\;mso-ascii-theme-font:minor-latin\;\nmso-fareast-font-family:" times="">Brown\, who was born in Birmingham\, England and educated at the University of London and the University of Michigan\, is now working on a series of paintings depicting cowboys in scenes of ranching life.</span><span mso-ansi-language:="" style="font-size:11.5pt\;font-family:Cambria\;mso-ascii-theme-font:minor-latin\;\nmso-fareast-font-family:"> </span><span mso-fareast-language:="" new="" style="font-size:11.5pt\;font-family:Cambria\;mso-ascii-theme-font:minor-latin\;\nmso-fareast-font-family:" times="">Complimentary wine and hors d&rsquo\;oeuvres will be served. Please RSVP with names of all guests attending to Barbara Kelley at <a href="mailto:barbarakelley@worthingtonbank.com">barbarakelley@worthingtonbank.com</a> or 817.656.6200</span>
LOCATION:Worthington National Bank 4814 Colleyville Blvd. Colleyville\, Texas 76034
UID:e.642.5177
SEQUENCE:3
DTSTAMP:20260423T053901Z
URL:https://business.colleyvillechamber.org/events/details/worthington-national-bank-to-host-an-artists-reception-honoring-sophy-brown-02-01-2013-5177
END:VEVENT

END:VCALENDAR
