BEGIN:VCALENDAR
VERSION:2.0
PRODID:-//ChamberMaster//Event Calendar 2.0//EN
METHOD:PUBLISH
X-PUBLISHED-TTL:P3D
REFRESH-INTERVAL:P3D
CALSCALE:GREGORIAN
BEGIN:VEVENT
DTSTART:20240723T160000Z
DTEND:20240723T170000Z
X-MICROSOFT-CDO-ALLDAYEVENT:FALSE
SUMMARY:WOW COMMITTEE MEETING
DESCRIPTION:Planning Meeting for WOW
X-ALT-DESC;FMTTYPE=text/html:Planning Meeting for WOW&nbsp\;
LOCATION:Colleyville Chamber
UID:e.642.30589
SEQUENCE:3
DTSTAMP:20260423T073728Z
URL:https://business.colleyvillechamber.org/events/details/wow-committee-meeting-30589
END:VEVENT

END:VCALENDAR
