BEGIN:VCALENDAR
VERSION:2.0
PRODID:-//ChamberMaster//Event Calendar 2.0//EN
METHOD:PUBLISH
X-PUBLISHED-TTL:P3D
REFRESH-INTERVAL:P3D
CALSCALE:GREGORIAN
BEGIN:VEVENT
DTSTART:20160604T130000Z
DTEND:20160604T170000Z
X-MICROSOFT-CDO-ALLDAYEVENT:FALSE
SUMMARY:XSightment Run Colleyville Lions Club
DESCRIPTION:The Colleyville Area Chamber partners with the Colleyville 5K Championship Series\, and invites all Chamber members and Colleyville residents to enjoy the third and final race\, the XSightment Run presented by The Colleyville Lions Club.
X-ALT-DESC;FMTTYPE=text/html:The Colleyville Area Chamber partners with the Colleyville&nbsp\;5K Championship Series\, and invites all Chamber members and Colleyville residents to enjoy the third and final race\, the XSightment Run presented by The Colleyville Lions Club.
LOCATION:Colleyville Center 5301 Riverwalk Dr. Colleyville\, TX Entry Fee: $25.00 If postmarked or on-line by May 29th $30.00 after May 29th
UID:e.642.11713
SEQUENCE:3
DTSTAMP:20260422T120345Z
URL:https://business.colleyvillechamber.org/events/details/xsightment-run-colleyville-lions-club-06-04-2016-11713
END:VEVENT

END:VCALENDAR
