BEGIN:VCALENDAR
VERSION:2.0
PRODID:-//ChamberMaster//Event Calendar 2.0//EN
METHOD:PUBLISH
X-PUBLISHED-TTL:P3D
REFRESH-INTERVAL:P3D
CALSCALE:GREGORIAN
BEGIN:VEVENT
DTSTART:20150113T000000Z
DTEND:20150113T030000Z
X-MICROSOFT-CDO-ALLDAYEVENT:FALSE
SUMMARY:Youth Leadership
DESCRIPTION:Chamber Office\n\nTopic:  Financial Responsibility\n\nSpeaker:  Justin Coon\, Vice President Worthington National Bank
X-ALT-DESC;FMTTYPE=text/html:Chamber Office<br />\nTopic:&nbsp\; Financial Responsibility<br />\nSpeaker:&nbsp\; Justin Coon\, Vice President Worthington National Bank
LOCATION:
UID:e.642.7484
SEQUENCE:3
DTSTAMP:20260421T140553Z
URL:https://business.colleyvillechamber.org/events/details/youth-leadership-01-12-2015-7484
END:VEVENT

END:VCALENDAR
