BEGIN:VCALENDAR
VERSION:2.0
PRODID:-//ChamberMaster//Event Calendar 2.0//EN
METHOD:PUBLISH
X-PUBLISHED-TTL:P3D
REFRESH-INTERVAL:P3D
CALSCALE:GREGORIAN
BEGIN:VEVENT
DTSTART:20140114T000000Z
DTEND:20140114T030000Z
X-MICROSOFT-CDO-ALLDAYEVENT:FALSE
SUMMARY:Youth Leadership
DESCRIPTION:Topic:  Economic Responsibility\n\nAt Chamber Office
X-ALT-DESC;FMTTYPE=text/html:Topic:&nbsp\; Economic Responsibility<br />\nAt Chamber Office
LOCATION:
UID:e.642.5741
SEQUENCE:3
DTSTAMP:20260422T100116Z
URL:https://business.colleyvillechamber.org/events/details/youth-leadership-01-13-2014-5741
END:VEVENT

END:VCALENDAR
