BEGIN:VCALENDAR
VERSION:2.0
PRODID:-//ChamberMaster//Event Calendar 2.0//EN
METHOD:PUBLISH
X-PUBLISHED-TTL:P3D
REFRESH-INTERVAL:P3D
CALSCALE:GREGORIAN
BEGIN:VEVENT
DTSTART:20130115T000000Z
DTEND:20130115T030000Z
X-MICROSOFT-CDO-ALLDAYEVENT:FALSE
SUMMARY:Youth Leadership
DESCRIPTION:Topic:  Economic Responsibility\n\nChamber office.
X-ALT-DESC;FMTTYPE=text/html:Topic:&nbsp\; Economic Responsibility<br />\nChamber office.
LOCATION:
UID:e.642.5081
SEQUENCE:3
DTSTAMP:20260423T053429Z
URL:https://business.colleyvillechamber.org/events/details/youth-leadership-01-14-2013-5081
END:VEVENT

END:VCALENDAR
