BEGIN:VCALENDAR
VERSION:2.0
PRODID:-//ChamberMaster//Event Calendar 2.0//EN
METHOD:PUBLISH
X-PUBLISHED-TTL:P3D
REFRESH-INTERVAL:P3D
CALSCALE:GREGORIAN
BEGIN:VEVENT
DTSTART:20150210T000000Z
DTEND:20150210T030000Z
X-MICROSOFT-CDO-ALLDAYEVENT:FALSE
SUMMARY:Youth Leadership
DESCRIPTION:Chamber Office\n\nProject Completion/Graduation Preparations
X-ALT-DESC;FMTTYPE=text/html:Chamber Office<br />\nProject Completion/Graduation Preparations
LOCATION:
UID:e.642.7486
SEQUENCE:3
DTSTAMP:20260421T123636Z
URL:https://business.colleyvillechamber.org/events/details/youth-leadership-02-09-2015-7486
END:VEVENT

END:VCALENDAR
