BEGIN:VCALENDAR
VERSION:2.0
PRODID:-//ChamberMaster//Event Calendar 2.0//EN
METHOD:PUBLISH
X-PUBLISHED-TTL:P3D
REFRESH-INTERVAL:P3D
CALSCALE:GREGORIAN
BEGIN:VEVENT
DTSTART:20130212T000000Z
DTEND:20130212T030000Z
X-MICROSOFT-CDO-ALLDAYEVENT:FALSE
SUMMARY:Youth Leadership
DESCRIPTION:Project Completion.\n\nAt Chamber office.
X-ALT-DESC;FMTTYPE=text/html:Project Completion.<br />\nAt Chamber office.
LOCATION:
UID:e.642.5082
SEQUENCE:3
DTSTAMP:20260423T033906Z
URL:https://business.colleyvillechamber.org/events/details/youth-leadership-02-11-2013-5082
END:VEVENT

END:VCALENDAR
