BEGIN:VCALENDAR
VERSION:2.0
PRODID:-//ChamberMaster//Event Calendar 2.0//EN
METHOD:PUBLISH
X-PUBLISHED-TTL:P3D
REFRESH-INTERVAL:P3D
CALSCALE:GREGORIAN
BEGIN:VEVENT
DTSTART;VALUE=DATE:20120901
DTEND;VALUE=DATE:20120902
TRANSP:TRANSPARENT
X-MICROSOFT-CDO-ALLDAYEVENT:TRUE
SUMMARY:Youth Leadership
DESCRIPTION:
X-ALT-DESC;FMTTYPE=text/html:
LOCATION:
UID:e.642.5063
SEQUENCE:3
DTSTAMP:20260423T134657Z
URL:https://business.colleyvillechamber.org/events/details/youth-leadership-09-01-2012-5063
END:VEVENT

END:VCALENDAR
