BEGIN:VCALENDAR
VERSION:2.0
PRODID:-//ChamberMaster//Event Calendar 2.0//EN
METHOD:PUBLISH
X-PUBLISHED-TTL:P3D
REFRESH-INTERVAL:P3D
CALSCALE:GREGORIAN
BEGIN:VEVENT
DTSTART:20121113T000000Z
DTEND:20121113T030000Z
X-MICROSOFT-CDO-ALLDAYEVENT:FALSE
SUMMARY:Youth Leadership
DESCRIPTION:Topic:  Local Government and Public Safety
X-ALT-DESC;FMTTYPE=text/html:Topic:&nbsp\; Local Government and Public Safety<br />\n
LOCATION:
UID:e.642.5079
SEQUENCE:3
DTSTAMP:20260423T103354Z
URL:https://business.colleyvillechamber.org/events/details/youth-leadership-11-12-2012-5079
END:VEVENT

END:VCALENDAR
