BEGIN:VCALENDAR
VERSION:2.0
PRODID:-//ChamberMaster//Event Calendar 2.0//EN
METHOD:PUBLISH
X-PUBLISHED-TTL:P3D
REFRESH-INTERVAL:P3D
CALSCALE:GREGORIAN
BEGIN:VEVENT
DTSTART:20121211T000000Z
DTEND:20121211T030000Z
X-MICROSOFT-CDO-ALLDAYEVENT:FALSE
SUMMARY:Youth Leadership
DESCRIPTION:Topic:  Media and Communications\n\nAt Chamber office.
X-ALT-DESC;FMTTYPE=text/html:Topic:&nbsp\; Media and Communications<br />\nAt Chamber office.
LOCATION:
UID:e.642.5080
SEQUENCE:3
DTSTAMP:20260423T070300Z
URL:https://business.colleyvillechamber.org/events/details/youth-leadership-12-10-2012-5080
END:VEVENT

END:VCALENDAR
