BEGIN:VCALENDAR
VERSION:2.0
PRODID:-//ChamberMaster//Event Calendar 2.0//EN
METHOD:PUBLISH
X-PUBLISHED-TTL:P3D
REFRESH-INTERVAL:P3D
CALSCALE:GREGORIAN
BEGIN:VEVENT
DTSTART:20141216T000000Z
DTEND:20141216T030000Z
X-MICROSOFT-CDO-ALLDAYEVENT:FALSE
SUMMARY:Youth Leadership
DESCRIPTION:Chamber Office\n\nTopic:  Social Media Etiquette\n\nSpeaker:  Stephanie Drenka\, Internet Marketing Manager\, i5 Web Works
X-ALT-DESC;FMTTYPE=text/html:Chamber Office<br />\nTopic:&nbsp\; Social Media Etiquette<br />\nSpeaker:&nbsp\; Stephanie Drenka\, Internet Marketing Manager\, i5 Web Works
LOCATION:
UID:e.642.7485
SEQUENCE:3
DTSTAMP:20260421T153508Z
URL:https://business.colleyvillechamber.org/events/details/youth-leadership-12-15-2014-7485
END:VEVENT

END:VCALENDAR
