BEGIN:VCALENDAR
VERSION:2.0
PRODID:-//ChamberMaster//Event Calendar 2.0//EN
METHOD:PUBLISH
X-PUBLISHED-TTL:P3D
REFRESH-INTERVAL:P3D
CALSCALE:GREGORIAN
BEGIN:VEVENT
DTSTART:20131217T000000Z
DTEND:20131217T030000Z
X-MICROSOFT-CDO-ALLDAYEVENT:FALSE
SUMMARY:Youth Leadership
DESCRIPTION:Topic:  Media/Communications\n\nChamber Office
X-ALT-DESC;FMTTYPE=text/html:Topic:&nbsp\; Media/Communications<br />\nChamber Office
LOCATION:
UID:e.642.5740
SEQUENCE:3
DTSTAMP:20260422T114341Z
URL:https://business.colleyvillechamber.org/events/details/youth-leadership-12-16-2013-5740
END:VEVENT

END:VCALENDAR
