BEGIN:VCALENDAR
VERSION:2.0
PRODID:-//ChamberMaster//Event Calendar 2.0//EN
METHOD:PUBLISH
X-PUBLISHED-TTL:P3D
REFRESH-INTERVAL:P3D
CALSCALE:GREGORIAN
BEGIN:VEVENT
DTSTART:20121001T230000Z
DTEND:20121002T000000Z
X-MICROSOFT-CDO-ALLDAYEVENT:FALSE
SUMMARY:Youth Leadership Orientation
DESCRIPTION:Orientation Meeting for Youth Leadership at Chamber office.
X-ALT-DESC;FMTTYPE=text/html:Orientation Meeting for Youth Leadership at Chamber office.
LOCATION:6700 Colleyville Blvd. Colleyville\, TX 76034 817-488-7148
UID:e.642.5076
SEQUENCE:3
DTSTAMP:20260423T105135Z
URL:https://business.colleyvillechamber.org/events/details/youth-leadership-orientation-10-01-2012-5076
END:VEVENT

END:VCALENDAR
