BEGIN:VCALENDAR
VERSION:2.0
PRODID:-//ChamberMaster//Event Calendar 2.0//EN
METHOD:PUBLISH
X-PUBLISHED-TTL:P3D
REFRESH-INTERVAL:P3D
CALSCALE:GREGORIAN
BEGIN:VEVENT
DTSTART:20130930T230000Z
DTEND:20131001T000000Z
X-MICROSOFT-CDO-ALLDAYEVENT:FALSE
SUMMARY:Youth Leadership Orientation Meeting
DESCRIPTION:Youth Leadership Class 2013-1014\n\nKickoff/Orientation Meeting at Chamber Office
X-ALT-DESC;FMTTYPE=text/html:Youth Leadership Class 2013-1014<br />\nKickoff/Orientation Meeting at Chamber Office
LOCATION:
UID:e.642.5717
SEQUENCE:3
DTSTAMP:20260422T163252Z
URL:https://business.colleyvillechamber.org/events/details/youth-leadership-orientation-meeting-09-30-2013-5717
END:VEVENT

END:VCALENDAR
