BEGIN:VCALENDAR
VERSION:2.0
PRODID:-//ChamberMaster//Event Calendar 2.0//EN
METHOD:PUBLISH
X-PUBLISHED-TTL:P3D
REFRESH-INTERVAL:P3D
CALSCALE:GREGORIAN
BEGIN:VEVENT
DTSTART:20121013T140000Z
DTEND:20121013T220000Z
X-MICROSOFT-CDO-ALLDAYEVENT:FALSE
SUMMARY:Youth Leadership Ropes Coarse
DESCRIPTION:Challenge by Choice Ropes Course\n\n	Leadership On The Move\, LLC\n\n	15238 Old Stony Road\n\n	Ponder\, TX  76259\n\n	940-479-2920
X-ALT-DESC;FMTTYPE=text/html:<p>\n	Challenge by Choice Ropes Course<br />\n	Leadership On The Move\, LLC<br />\n	15238 Old Stony Road<br />\n	Ponder\, TX&nbsp\; 76259<br />\n	940-479-2920</p>\n
LOCATION:
UID:e.642.5077
SEQUENCE:3
DTSTAMP:20260423T105206Z
URL:https://business.colleyvillechamber.org/events/details/youth-leadership-ropes-coarse-10-13-2012-5077
END:VEVENT

END:VCALENDAR
