BEGIN:VCALENDAR
VERSION:2.0
PRODID:-//ChamberMaster//Event Calendar 2.0//EN
METHOD:PUBLISH
X-PUBLISHED-TTL:P3D
REFRESH-INTERVAL:P3D
CALSCALE:GREGORIAN
BEGIN:VEVENT
DTSTART:20131005T140000Z
DTEND:20131005T220000Z
X-MICROSOFT-CDO-ALLDAYEVENT:FALSE
SUMMARY:Youth Leadership Ropes Course
DESCRIPTION:Leadership On the Move Ropes Challenge Course\n\nStony Ranch\n\n15238 Old Stony Road\n\nPonder\, Texas  76259\n\n940-479-2920
X-ALT-DESC;FMTTYPE=text/html:Leadership On the Move Ropes Challenge Course<br />\nStony Ranch<br />\n15238 Old Stony Road<br />\nPonder\, Texas&nbsp\; 76259<br />\n940-479-2920
LOCATION:
UID:e.642.5737
SEQUENCE:3
DTSTAMP:20260422T145316Z
URL:https://business.colleyvillechamber.org/events/details/youth-leadership-ropes-course-10-05-2013-5737
END:VEVENT

END:VCALENDAR
