BEGIN:VCALENDAR
VERSION:2.0
PRODID:-//ChamberMaster//Event Calendar 2.0//EN
METHOD:PUBLISH
X-PUBLISHED-TTL:P3D
REFRESH-INTERVAL:P3D
CALSCALE:GREGORIAN
BEGIN:VEVENT
DTSTART:20220810T000000Z
DTEND:20220810T010000Z
X-MICROSOFT-CDO-ALLDAYEVENT:FALSE
SUMMARY:Zoning Board of Adjustment/Sign Board of Appeals Meeting
DESCRIPTION:The Zoning Board of Adjustment/Sign Board of Appeals meeting will be held in the Council Chambers on the third floor of City. For more information visit the Public Meetings webpage.
X-ALT-DESC;FMTTYPE=text/html:The Zoning Board of Adjustment/Sign Board of Appeals meeting will be held in the Council Chambers on the third floor of City. For more information visit the Public Meetings webpage.
LOCATION:City Hall 100 Main Street Colleyville\, Texas 76034
UID:e.642.26536
SEQUENCE:3
DTSTAMP:20260424T211310Z
URL:https://business.colleyvillechamber.org/events/details/zoning-board-of-adjustment-sign-board-of-appeals-meeting-08-09-2022-26536
END:VEVENT

END:VCALENDAR
